BEGIN:VCALENDAR
VERSION:2.0
PRODID:-//Library Market//iCal Export//EN
BEGIN:VEVENT
SUMMARY:Goosehill PTG
UID:38477
DTSTAMP:20260421T104600Z
DTSTART:20260603T140000Z
DTEND:20260603T153000Z
LOCATION:Cold Spring Harbor Library, 95 Harbor Rd, Cold Spring Harbor, NY 
 11724, United States
ROOM: Environmental Room
DESCRIPTION:
URL:https://coldspringharbor.librarycalendar.com/event/goosehill-ptg-38477
END:VEVENT
END:VCALENDAR
