BEGIN:VCALENDAR
VERSION:2.0
PRODID:-//Library Market//iCal Export//EN
BEGIN:VEVENT
SUMMARY:Father’s Day Frame
UID:38035
DTSTAMP:20260419T140400Z
DTSTART:20260618T200000Z
DTEND:20260618T204500Z
LOCATION:Cold Spring Harbor Library, 95 Harbor Rd, Cold Spring Harbor, NY 
 11724, United States
ROOM: Craft Room
DESCRIPTION:For children ages 2-5 with adultMake a frame to give to a love
 d one!Registration with a Cold Spring Harbor Library Card is required!  
URL:https://coldspringharbor.librarycalendar.com/event/fathers-day-frame-3
 8035
END:VEVENT
END:VCALENDAR
