BEGIN:VCALENDAR
VERSION:2.0
PRODID:-//Library Market//iCal Export//EN
BEGIN:VEVENT
SUMMARY:Ladybugs
UID:38006
DTSTAMP:20260421T023400Z
DTSTART:20260608T200000Z
DTEND:20260608T204500Z
LOCATION:Cold Spring Harbor Library, 95 Harbor Rd, Cold Spring Harbor, NY 
 11724, United States
ROOM: Craft Room
DESCRIPTION:For children ages 2-5 with adultCreate a paper craft ladybug!R
 egistration with a Cold Spring Harbor Library Card is required!  
URL:https://coldspringharbor.librarycalendar.com/event/ladybugs-38006
END:VEVENT
END:VCALENDAR
