BEGIN:VCALENDAR
VERSION:2.0
PRODID:-//Library Market//iCal Export//EN
BEGIN:VEVENT
SUMMARY:MahJongg Anne
UID:38727
DTSTAMP:20260424T162800Z
DTSTART:20260615T161500Z
DTEND:20260615T180000Z
LOCATION:Cold Spring Harbor Library, 95 Harbor Rd, Cold Spring Harbor, NY 
 11724, United States
ROOM: Small Meeting Room
DESCRIPTION:
URL:https://coldspringharbor.librarycalendar.com/index.php/event/mahjongg-
 anne-38727
END:VEVENT
END:VCALENDAR
