BEGIN:VCALENDAR
VERSION:2.0
PRODID:-//Library Market//iCal Export//EN
BEGIN:VEVENT
SUMMARY:HOBAS Event
UID:38509
DTSTAMP:20260421T104600Z
DTSTART:20260617T230000Z
DTEND:20260618T003000Z
LOCATION:Cold Spring Harbor Library, 95 Harbor Rd, Cold Spring Harbor, NY 
 11724, United States
ROOM: Large Meeting Room AB
DESCRIPTION:
URL:https://coldspringharbor.librarycalendar.com/index.php/event/hobas-eve
 nt-38509
END:VEVENT
END:VCALENDAR
