BEGIN:VCALENDAR
VERSION:2.0
PRODID:-//Library Market//iCal Export//EN
BEGIN:VEVENT
SUMMARY:Margie&#039;s Book group
UID:38500
DTSTAMP:20260424T054900Z
DTSTART:20260518T224500Z
DTEND:20260519T003000Z
LOCATION:Cold Spring Harbor Library, 95 Harbor Rd, Cold Spring Harbor, NY 
 11724, United States
ROOM: Environmental Room
DESCRIPTION:
URL:https://coldspringharbor.librarycalendar.com/index.php/event/margies-b
 ook-group-38500
END:VEVENT
END:VCALENDAR
