BEGIN:VCALENDAR
VERSION:2.0
PRODID:-//Library Market//iCal Export//EN
BEGIN:VEVENT
SUMMARY:Mah Jongg Rita
UID:38425
DTSTAMP:20260423T185400Z
DTSTART:20260522T140000Z
DTEND:20260522T160000Z
LOCATION:Cold Spring Harbor Library, 95 Harbor Rd, Cold Spring Harbor, NY 
 11724, United States
ROOM: The Underground
DESCRIPTION:
URL:https://coldspringharbor.librarycalendar.com/index.php/event/mah-jongg
 -rita-38425
END:VEVENT
END:VCALENDAR
