BEGIN:VCALENDAR
VERSION:2.0
PRODID:-//Library Market//iCal Export//EN
BEGIN:VEVENT
SUMMARY:Mah Jongg with Stephanie
UID:38393
DTSTAMP:20260421T135500Z
DTSTART:20260511T140000Z
DTEND:20260511T160000Z
LOCATION:Cold Spring Harbor Library, 95 Harbor Rd, Cold Spring Harbor, NY 
 11724, United States
ROOM: The Underground
DESCRIPTION:
URL:https://coldspringharbor.librarycalendar.com/index.php/event/mah-jongg
 -stephanie-38393
END:VEVENT
END:VCALENDAR
